BEGIN:VCALENDAR
VERSION:2.0
PRODID:-//CED - Center for Entrepreneurial Development - ECPv6.15.18//NONSGML v1.0//EN
CALSCALE:GREGORIAN
METHOD:PUBLISH
X-WR-CALNAME:CED - Center for Entrepreneurial Development
X-ORIGINAL-URL:https://cednc.org
X-WR-CALDESC:Events for CED - Center for Entrepreneurial Development
REFRESH-INTERVAL;VALUE=DURATION:PT1H
X-Robots-Tag:noindex
X-PUBLISHED-TTL:PT1H
BEGIN:VTIMEZONE
TZID:America/New_York
BEGIN:DAYLIGHT
TZOFFSETFROM:-0500
TZOFFSETTO:-0400
TZNAME:EDT
DTSTART:20240310T070000
END:DAYLIGHT
BEGIN:STANDARD
TZOFFSETFROM:-0400
TZOFFSETTO:-0500
TZNAME:EST
DTSTART:20241103T060000
END:STANDARD
BEGIN:DAYLIGHT
TZOFFSETFROM:-0500
TZOFFSETTO:-0400
TZNAME:EDT
DTSTART:20250309T070000
END:DAYLIGHT
BEGIN:STANDARD
TZOFFSETFROM:-0400
TZOFFSETTO:-0500
TZNAME:EST
DTSTART:20251102T060000
END:STANDARD
BEGIN:DAYLIGHT
TZOFFSETFROM:-0500
TZOFFSETTO:-0400
TZNAME:EDT
DTSTART:20260308T070000
END:DAYLIGHT
BEGIN:STANDARD
TZOFFSETFROM:-0400
TZOFFSETTO:-0500
TZNAME:EST
DTSTART:20261101T060000
END:STANDARD
END:VTIMEZONE
BEGIN:VEVENT
DTSTART;VALUE=DATE:20250605
DTEND;VALUE=DATE:20250606
DTSTAMP:20260422T033430
CREATED:20250408T204351Z
LAST-MODIFIED:20250408T204351Z
UID:10000255-1749081600-1749167999@cednc.org
SUMMARY:Grep-a-Palooza
DESCRIPTION:
URL:https://cednc.org/event/grep-a-palooza-2/
LOCATION:Durham Convention Center\, 301 W Morgan St\, Durham\, NC\, 27701\, United States
CATEGORIES:Accelerate,Connect,Forge
END:VEVENT
END:VCALENDAR