BEGIN:VCALENDAR
VERSION:2.0
PRODID:-//CED - Center for Entrepreneurial Development - ECPv6.15.18//NONSGML v1.0//EN
CALSCALE:GREGORIAN
METHOD:PUBLISH
X-ORIGINAL-URL:https://cednc.org
X-WR-CALDESC:Events for CED - Center for Entrepreneurial Development
REFRESH-INTERVAL;VALUE=DURATION:PT1H
X-Robots-Tag:noindex
X-PUBLISHED-TTL:PT1H
BEGIN:VTIMEZONE
TZID:America/New_York
BEGIN:DAYLIGHT
TZOFFSETFROM:-0500
TZOFFSETTO:-0400
TZNAME:EDT
DTSTART:20240310T070000
END:DAYLIGHT
BEGIN:STANDARD
TZOFFSETFROM:-0400
TZOFFSETTO:-0500
TZNAME:EST
DTSTART:20241103T060000
END:STANDARD
BEGIN:DAYLIGHT
TZOFFSETFROM:-0500
TZOFFSETTO:-0400
TZNAME:EDT
DTSTART:20250309T070000
END:DAYLIGHT
BEGIN:STANDARD
TZOFFSETFROM:-0400
TZOFFSETTO:-0500
TZNAME:EST
DTSTART:20251102T060000
END:STANDARD
BEGIN:DAYLIGHT
TZOFFSETFROM:-0500
TZOFFSETTO:-0400
TZNAME:EDT
DTSTART:20260308T070000
END:DAYLIGHT
BEGIN:STANDARD
TZOFFSETFROM:-0400
TZOFFSETTO:-0500
TZNAME:EST
DTSTART:20261101T060000
END:STANDARD
BEGIN:DAYLIGHT
TZOFFSETFROM:-0500
TZOFFSETTO:-0400
TZNAME:EDT
DTSTART:20270314T070000
END:DAYLIGHT
BEGIN:STANDARD
TZOFFSETFROM:-0400
TZOFFSETTO:-0500
TZNAME:EST
DTSTART:20271107T060000
END:STANDARD
END:VTIMEZONE
BEGIN:VEVENT
DTSTART;TZID=America/New_York:20260413T100000
DTEND;TZID=America/New_York:20260413T170000
DTSTAMP:20260422T052001
CREATED:20260401T175449Z
LAST-MODIFIED:20260401T175457Z
UID:10000602-1776074400-1776099600@cednc.org
SUMMARY:AI for Public Good
DESCRIPTION:
URL:https://cednc.org/event/ai-for-public-good-2026/
LOCATION:The William and Ida Friday Center at UNC-Chapel Hill\, 100 Friday Center Drive\, Campus Box 1020\, Chapel Hill\, NC\, 27599\, United States
CATEGORIES:Accelerate,Connect,Forge
END:VEVENT
BEGIN:VEVENT
DTSTART;VALUE=DATE:20260410
DTEND;VALUE=DATE:20260412
DTSTAMP:20260422T052001
CREATED:20251218T161459Z
LAST-MODIFIED:20251218T161505Z
UID:10000450-1775779200-1775951999@cednc.org
SUMMARY:VCIC Global Finals
DESCRIPTION:
URL:https://cednc.org/event/vcic-global-finals-2026/
LOCATION:UNC Kenan-Flagler Business School\, 300 Kenan Center Drive\, Chapel Hill\, NC\, 27599\, United States
CATEGORIES:Accelerate,Connect,Forge
END:VEVENT
BEGIN:VEVENT
DTSTART;TZID=America/New_York:20250408T160000
DTEND;TZID=America/New_York:20250408T180000
DTSTAMP:20260422T052001
CREATED:20250124T163550Z
LAST-MODIFIED:20250124T163550Z
UID:10000185-1744128000-1744135200@cednc.org
SUMMARY:Crafting Your Board Journey: Perfecting Your Board Resume and Board Bio
DESCRIPTION:
URL:https://cednc.org/event/crafting-your-board-journey-perfecting-your-board-resume-and-board-bio/
CATEGORIES:Connect
END:VEVENT
BEGIN:VEVENT
DTSTART;TZID=America/New_York:20250326T091500
DTEND;TZID=America/New_York:20250326T114500
DTSTAMP:20260422T052001
CREATED:20250212T204730Z
LAST-MODIFIED:20250307T164736Z
UID:10000201-1742980500-1742989500@cednc.org
SUMMARY:Accelerate Cleantech: A Global Matchmaking Event
DESCRIPTION:CED is excited to introduce a new collaboration happening alongside Venture Connect: Accelerate Cleantech\, hosted by UNC-Chapel Hill’s Ackerman Center for Excellence in Sustainability and Institute for the Environment\, serves as a global matchmaking event and business gateway to the U.S. and North Carolina. It is a curated\, free and invitation-only event collocated with Venture Connect on the morning of March 26\, 2025. This event is designed to 1) connect investors\, accelerators and more with clean-tech start-ups and 2) create partnerships for companies looking to build a presence in the United States to facilitate their growth. Attendees of Accelerate Cleantech will also have access to the UNC Cleantech Summit in Chapel Hill on March 24 and 25. \n💡 If you are interested in attending: investors (venture capital\, angels\, corporate technology scouts\, etc.) can fill out this form and entrepreneurial ventures can fill out this form. You can also email aces@kenan-flagler.unc.edu.
URL:https://cednc.org/event/unc-cleantech/
LOCATION:Kennedy Theater\, 2 East South Street Raleigh\, Raleigh\, NC\, 27601\, United States
CATEGORIES:Venture Connect 25
ATTACH;FMTTYPE=image/avif:https://cednc.org/wp-content/uploads/2025/02/cleantechsummitlogo.avif
END:VEVENT
BEGIN:VEVENT
DTSTART;TZID=America/New_York:20250225T160000
DTEND;TZID=America/New_York:20250225T180000
DTSTAMP:20260422T052001
CREATED:20250124T163315Z
LAST-MODIFIED:20250221T212601Z
UID:10000184-1740499200-1740506400@cednc.org
SUMMARY:Crafting Your Board Journey: Your Board Value Proposition and Your Board Targets
DESCRIPTION:
URL:https://cednc.org/event/crafting-your-board-journey-your-board-value-proposition-and-your-board-targets/
CATEGORIES:Connect,Forge
END:VEVENT
END:VCALENDAR