BEGIN:VCALENDAR
VERSION:2.0
PRODID:-//CED - Center for Entrepreneurial Development - ECPv6.15.18//NONSGML v1.0//EN
CALSCALE:GREGORIAN
METHOD:PUBLISH
X-ORIGINAL-URL:https://cednc.org
X-WR-CALDESC:Events for CED - Center for Entrepreneurial Development
REFRESH-INTERVAL;VALUE=DURATION:PT1H
X-Robots-Tag:noindex
X-PUBLISHED-TTL:PT1H
BEGIN:VTIMEZONE
TZID:America/New_York
BEGIN:DAYLIGHT
TZOFFSETFROM:-0500
TZOFFSETTO:-0400
TZNAME:EDT
DTSTART:20250309T070000
END:DAYLIGHT
BEGIN:STANDARD
TZOFFSETFROM:-0400
TZOFFSETTO:-0500
TZNAME:EST
DTSTART:20251102T060000
END:STANDARD
BEGIN:DAYLIGHT
TZOFFSETFROM:-0500
TZOFFSETTO:-0400
TZNAME:EDT
DTSTART:20260308T070000
END:DAYLIGHT
BEGIN:STANDARD
TZOFFSETFROM:-0400
TZOFFSETTO:-0500
TZNAME:EST
DTSTART:20261101T060000
END:STANDARD
BEGIN:DAYLIGHT
TZOFFSETFROM:-0500
TZOFFSETTO:-0400
TZNAME:EDT
DTSTART:20270314T070000
END:DAYLIGHT
BEGIN:STANDARD
TZOFFSETFROM:-0400
TZOFFSETTO:-0500
TZNAME:EST
DTSTART:20271107T060000
END:STANDARD
END:VTIMEZONE
BEGIN:VEVENT
DTSTART;VALUE=DATE:20260419
DTEND;VALUE=DATE:20260426
DTSTAMP:20260425T144132
CREATED:20260401T190152Z
LAST-MODIFIED:20260401T190152Z
UID:10000615-1776556800-1777161599@cednc.org
SUMMARY:Miami Tech Week
DESCRIPTION:
URL:https://cednc.org/event/miami-tech-week-2026/
LOCATION:NC
CATEGORIES:Accelerate,Connect,Forge
END:VEVENT
BEGIN:VEVENT
DTSTART;VALUE=DATE:20260420
DTEND;VALUE=DATE:20260427
DTSTAMP:20260425T144132
CREATED:20250926T194311Z
LAST-MODIFIED:20250926T194753Z
UID:10000411-1776643200-1777247999@cednc.org
SUMMARY:Raleigh-Durham Startup Week
DESCRIPTION:
URL:https://cednc.org/event/raleigh-durham-startup-week-2026/
LOCATION:NC
CATEGORIES:Accelerate,Connect,Forge
END:VEVENT
BEGIN:VEVENT
DTSTART;TZID=America/New_York:20260421T100000
DTEND;TZID=America/New_York:20260421T110000
DTSTAMP:20260425T144132
CREATED:20260414T163226Z
LAST-MODIFIED:20260414T163227Z
UID:10000629-1776765600-1776769200@cednc.org
SUMMARY:RDSW: Coffee & Cornhole with CED
DESCRIPTION:​Fuel up for the big week ahead! CED is kicking off Raleigh-Durham Startup Week with a casual coffee and cornhole meetup — the perfect way to get energized\, meet fellow founders\, and ease into all the sessions and programming #RDSW26 has in store. \n​No agenda. No programming (this time!). Just good vibes\, great coffee\, and an excuse to finally show off your cornhole game. \n​Come grab a cup\, say hi\, and connect with the Triangle startup community before the week gets rolling. All are welcome! \nPlease note – RSVP is required: https://luma.com/m5izbhr2?tk=eHwAe3
URL:https://cednc.org/event/rdsw-coffee-cornhole-with-ced-2026/
LOCATION:Parker and Otis\, 324 Blackwell St\, Bay 4\, Durham\, NC\, 27701\, United States
CATEGORIES:Accelerate,Connect,Forge
END:VEVENT
END:VCALENDAR