BEGIN:VCALENDAR
VERSION:2.0
PRODID:-//CED - Center for Entrepreneurial Development - ECPv6.15.18//NONSGML v1.0//EN
CALSCALE:GREGORIAN
METHOD:PUBLISH
X-WR-CALNAME:CED - Center for Entrepreneurial Development
X-ORIGINAL-URL:https://cednc.org
X-WR-CALDESC:Events for CED - Center for Entrepreneurial Development
REFRESH-INTERVAL;VALUE=DURATION:PT1H
X-Robots-Tag:noindex
X-PUBLISHED-TTL:PT1H
BEGIN:VTIMEZONE
TZID:America/New_York
BEGIN:DAYLIGHT
TZOFFSETFROM:-0500
TZOFFSETTO:-0400
TZNAME:EDT
DTSTART:20250309T070000
END:DAYLIGHT
BEGIN:STANDARD
TZOFFSETFROM:-0400
TZOFFSETTO:-0500
TZNAME:EST
DTSTART:20251102T060000
END:STANDARD
BEGIN:DAYLIGHT
TZOFFSETFROM:-0500
TZOFFSETTO:-0400
TZNAME:EDT
DTSTART:20260308T070000
END:DAYLIGHT
BEGIN:STANDARD
TZOFFSETFROM:-0400
TZOFFSETTO:-0500
TZNAME:EST
DTSTART:20261101T060000
END:STANDARD
BEGIN:DAYLIGHT
TZOFFSETFROM:-0500
TZOFFSETTO:-0400
TZNAME:EDT
DTSTART:20270314T070000
END:DAYLIGHT
BEGIN:STANDARD
TZOFFSETFROM:-0400
TZOFFSETTO:-0500
TZNAME:EST
DTSTART:20271107T060000
END:STANDARD
END:VTIMEZONE
BEGIN:VEVENT
DTSTART;TZID=America/New_York:20260203T173000
DTEND;TZID=America/New_York:20260203T200000
DTSTAMP:20260425T162656
CREATED:20260120T191045Z
LAST-MODIFIED:20260120T191045Z
UID:10000458-1770139800-1770148800@cednc.org
SUMMARY:RIoT State of the Region
DESCRIPTION:
URL:https://cednc.org/event/riot-state-of-the-region-2026/
LOCATION:Raleigh Founded – North Street\, 509 W North St\, Raleigh\, 27603\, United States
CATEGORIES:Accelerate,Connect,Forge
END:VEVENT
BEGIN:VEVENT
DTSTART;TZID=America/New_York:20260205T183000
DTEND;TZID=America/New_York:20260205T210000
DTSTAMP:20260425T162656
CREATED:20251223T180949Z
LAST-MODIFIED:20251223T180949Z
UID:10000454-1770316200-1770325200@cednc.org
SUMMARY:GrepBeat "Rising Stars"
DESCRIPTION:
URL:https://cednc.org/event/grepbeat-rising-stars-2026/
LOCATION:21c Museum Hotel Durham\, 111 North Corcoran St\, Durham\, NC\, 27701\, United States
CATEGORIES:Accelerate,Connect,Forge
END:VEVENT
BEGIN:VEVENT
DTSTART;VALUE=DATE:20260206
DTEND;VALUE=DATE:20260207
DTSTAMP:20260425T162656
CREATED:20250811T003007Z
LAST-MODIFIED:20250811T003007Z
UID:10000318-1770336000-1770422399@cednc.org
SUMMARY:First Friday at Raleigh Founded - North Street
DESCRIPTION:
URL:https://cednc.org/event/first-friday-at-raleigh-founded-north-street/2026-02-06/
LOCATION:Raleigh Founded – North Street\, 509 W North St\, Raleigh\, 27603\, United States
CATEGORIES:Accelerate,Connect,Forge
END:VEVENT
BEGIN:VEVENT
DTSTART;TZID=America/New_York:20260206T083000
DTEND;TZID=America/New_York:20260206T170000
DTSTAMP:20260425T162656
CREATED:20260120T192508Z
LAST-MODIFIED:20260120T192508Z
UID:10000461-1770366600-1770397200@cednc.org
SUMMARY:Free Coworking Day at The Junction
DESCRIPTION:
URL:https://cednc.org/event/free-coworking-day-feb-6/2026-02-06/
LOCATION:Innovate Carolina\, 136 E Rosemary St\, Chapel Hill\, NC\, 17514\, United States
CATEGORIES:Accelerate,Connect,Forge
END:VEVENT
BEGIN:VEVENT
DTSTART;VALUE=DATE:20260210
DTEND;VALUE=DATE:20260213
DTSTAMP:20260425T162656
CREATED:20260203T204732Z
LAST-MODIFIED:20260203T204732Z
UID:10000530-1770681600-1770940799@cednc.org
SUMMARY:The Idea Village
DESCRIPTION:
URL:https://cednc.org/event/the-idea-village/
LOCATION:NC
CATEGORIES:Accelerate,Connect,Forge
END:VEVENT
BEGIN:VEVENT
DTSTART;TZID=America/New_York:20260212T173000
DTEND;TZID=America/New_York:20260212T203000
DTSTAMP:20260425T162656
CREATED:20251223T192400Z
LAST-MODIFIED:20251223T192432Z
UID:10000455-1770917400-1770928200@cednc.org
SUMMARY:State of Capital in North Carolina Dinner (Invite Only)
DESCRIPTION:CED is excited to host the third annual “State of Capital in North Carolina” Dinner – a small\, invite-only investor dinner to discuss the 2025 venture investment landscape. This will include our analysis from the CED Venture Report as well as thoughts on trends from the larger group. \nThis dinner is invite-only and unfortunately we are unable to extend additional invitations.
URL:https://cednc.org/event/venture-report-dinner-2026/
LOCATION:NC
CATEGORIES:Accelerate
END:VEVENT
BEGIN:VEVENT
DTSTART;VALUE=DATE:20260223
DTEND;VALUE=DATE:20260226
DTSTAMP:20260425T162656
CREATED:20250811T013156Z
LAST-MODIFIED:20250811T013259Z
UID:10000390-1771804800-1772063999@cednc.org
SUMMARY:Florida Venture Forum
DESCRIPTION:
URL:https://cednc.org/event/florida-venture-forum-2026/
LOCATION:NC
CATEGORIES:Accelerate,Connect,Forge
END:VEVENT
END:VCALENDAR