BEGIN:VCALENDAR
VERSION:2.0
PRODID:-//CED - Center for Entrepreneurial Development - ECPv6.15.18//NONSGML v1.0//EN
CALSCALE:GREGORIAN
METHOD:PUBLISH
X-WR-CALNAME:CED - Center for Entrepreneurial Development
X-ORIGINAL-URL:https://cednc.org
X-WR-CALDESC:Events for CED - Center for Entrepreneurial Development
REFRESH-INTERVAL;VALUE=DURATION:PT1H
X-Robots-Tag:noindex
X-PUBLISHED-TTL:PT1H
BEGIN:VTIMEZONE
TZID:America/New_York
BEGIN:DAYLIGHT
TZOFFSETFROM:-0500
TZOFFSETTO:-0400
TZNAME:EDT
DTSTART:20240310T070000
END:DAYLIGHT
BEGIN:STANDARD
TZOFFSETFROM:-0400
TZOFFSETTO:-0500
TZNAME:EST
DTSTART:20241103T060000
END:STANDARD
BEGIN:DAYLIGHT
TZOFFSETFROM:-0500
TZOFFSETTO:-0400
TZNAME:EDT
DTSTART:20250309T070000
END:DAYLIGHT
BEGIN:STANDARD
TZOFFSETFROM:-0400
TZOFFSETTO:-0500
TZNAME:EST
DTSTART:20251102T060000
END:STANDARD
BEGIN:DAYLIGHT
TZOFFSETFROM:-0500
TZOFFSETTO:-0400
TZNAME:EDT
DTSTART:20260308T070000
END:DAYLIGHT
BEGIN:STANDARD
TZOFFSETFROM:-0400
TZOFFSETTO:-0500
TZNAME:EST
DTSTART:20261101T060000
END:STANDARD
END:VTIMEZONE
BEGIN:VEVENT
DTSTART;TZID=America/New_York:20251002T130000
DTEND;TZID=America/New_York:20251002T190000
DTSTAMP:20260425T233626
CREATED:20250710T163617Z
LAST-MODIFIED:20250710T163617Z
UID:10000299-1759410000-1759431600@cednc.org
SUMMARY:BofA Triangle Innovation Summit
DESCRIPTION:
URL:https://cednc.org/event/bofa-triangle-innovation-summit-2025/
LOCATION:NC
CATEGORIES:Connect,Forge,Accelerate
END:VEVENT
BEGIN:VEVENT
DTSTART;VALUE=DATE:20251003
DTEND;VALUE=DATE:20251004
DTSTAMP:20260425T233626
CREATED:20250811T003007Z
LAST-MODIFIED:20250811T003007Z
UID:10000314-1759449600-1759535999@cednc.org
SUMMARY:First Friday at Raleigh Founded - North Street
DESCRIPTION:
URL:https://cednc.org/event/first-friday-at-raleigh-founded-north-street/2025-10-03/
LOCATION:Raleigh Founded – North Street\, 509 W North St\, Raleigh\, 27603\, United States
CATEGORIES:Forge,Accelerate,Connect
END:VEVENT
BEGIN:VEVENT
DTSTART;VALUE=DATE:20251012
DTEND;VALUE=DATE:20251015
DTSTAMP:20260425T233626
CREATED:20250409T181403Z
LAST-MODIFIED:20250409T181403Z
UID:10000263-1760227200-1760486399@cednc.org
SUMMARY:All Things Open
DESCRIPTION:
URL:https://cednc.org/event/all-things-open-3/
LOCATION:Raleigh Convention Center\, 500 S Salisbury St\, NC\, 27601\, United States
CATEGORIES:Connect,Forge,Accelerate
END:VEVENT
BEGIN:VEVENT
DTSTART;VALUE=DATE:20251015
DTEND;VALUE=DATE:20251017
DTSTAMP:20260425T233626
CREATED:20250409T132944Z
LAST-MODIFIED:20250409T132944Z
UID:10000260-1760486400-1760659199@cednc.org
SUMMARY:Venture Atlanta
DESCRIPTION:
URL:https://cednc.org/event/venture-atlanta/
LOCATION:NC
CATEGORIES:Connect,Accelerate
END:VEVENT
BEGIN:VEVENT
DTSTART;VALUE=DATE:20251017
DTEND;VALUE=DATE:20251018
DTSTAMP:20260425T233626
CREATED:20250918T210426Z
LAST-MODIFIED:20250918T210426Z
UID:10000407-1760659200-1760745599@cednc.org
SUMMARY:ProductCampRTP Un-conference
DESCRIPTION:
URL:https://cednc.org/event/productcamprtp-un-conference/
LOCATION:NC
CATEGORIES:Forge,Accelerate
END:VEVENT
BEGIN:VEVENT
DTSTART;TZID=America/New_York:20251023T113000
DTEND;TZID=America/New_York:20251023T140000
DTSTAMP:20260425T233626
CREATED:20250811T010529Z
LAST-MODIFIED:20250811T010529Z
UID:10000379-1761219000-1761228000@cednc.org
SUMMARY:NCLifeSci Legislative Luncheon and Forum
DESCRIPTION:
URL:https://cednc.org/event/nclifesci-legislative-luncheon-2025/
LOCATION:NC
CATEGORIES:Connect,Forge,Accelerate
END:VEVENT
BEGIN:VEVENT
DTSTART;TZID=America/New_York:20251023T173000
DTEND;TZID=America/New_York:20251023T193000
DTSTAMP:20260425T233626
CREATED:20250926T195433Z
LAST-MODIFIED:20250926T195433Z
UID:10000414-1761240600-1761247800@cednc.org
SUMMARY:LiLa: Legal Due Diligence: What to Know to Make Sure Your Investment is Protected
DESCRIPTION:
URL:https://cednc.org/event/lila-legal-due-diligence-oct-2026/
LOCATION:Raleigh Founded – North Street\, 509 W North St\, Raleigh\, 27603\, United States
CATEGORIES:Connect,Forge,Accelerate
END:VEVENT
BEGIN:VEVENT
DTSTART;TZID=America/New_York:20251030T113000
DTEND;TZID=America/New_York:20251030T140000
DTSTAMP:20260425T233626
CREATED:20250811T010650Z
LAST-MODIFIED:20250811T010650Z
UID:10000380-1761823800-1761832800@cednc.org
SUMMARY:NCLifeSci Contract R&D Luncheon and Forum (all members)
DESCRIPTION:
URL:https://cednc.org/event/nclifesci-contract-rd-luncheon-2025/
LOCATION:NC
CATEGORIES:Connect,Forge,Accelerate
END:VEVENT
END:VCALENDAR